BEGIN:VCALENDAR
VERSION:2.0
PRODID:icalendar-ruby
CALSCALE:GREGORIAN
BEGIN:VTIMEZONE
TZID:America/New_York
BEGIN:DAYLIGHT
DTSTART:20260308T030000
TZOFFSETFROM:-0500
TZOFFSETTO:-0400
RRULE:FREQ=YEARLY;BYDAY=2SU;BYMONTH=3
TZNAME:EDT
END:DAYLIGHT
BEGIN:STANDARD
DTSTART:20261101T010000
TZOFFSETFROM:-0400
TZOFFSETTO:-0500
RRULE:FREQ=YEARLY;BYDAY=1SU;BYMONTH=11
TZNAME:EST
END:STANDARD
END:VTIMEZONE
BEGIN:VEVENT
DTSTAMP:20260425T113123Z
UID:https://seacoast.helpfulvillage.com/events/1229
DTSTART;TZID=America/New_York:20260518T093000
DTEND;TZID=America/New_York:20260518T160000
CLASS:PRIVATE
CREATED:20260424T125306
DESCRIPTION:
LAST-MODIFIED:20260424T145041
LOCATION:Peabody Essex Museum\, 161  Essex St\, Salem\, MA 01970
SUMMARY:Village event: Day trip to the Peabody Essex Museum
URL;VALUE=URI:https://seacoast.helpfulvillage.com/events/1229
END:VEVENT
END:VCALENDAR
