BEGIN:VCALENDAR
VERSION:2.0
PRODID:icalendar-ruby
CALSCALE:GREGORIAN
BEGIN:VTIMEZONE
TZID:America/New_York
BEGIN:DAYLIGHT
DTSTART:20260308T030000
TZOFFSETFROM:-0500
TZOFFSETTO:-0400
RRULE:FREQ=YEARLY;BYDAY=2SU;BYMONTH=3
TZNAME:EDT
END:DAYLIGHT
BEGIN:STANDARD
DTSTART:20261101T010000
TZOFFSETFROM:-0400
TZOFFSETTO:-0500
RRULE:FREQ=YEARLY;BYDAY=1SU;BYMONTH=11
TZNAME:EST
END:STANDARD
END:VTIMEZONE
BEGIN:VEVENT
DTSTAMP:20260425T112616Z
UID:https://seacoast.helpfulvillage.com/events/1230
DTSTART;TZID=America/New_York:20260525T130000
DTEND;TZID=America/New_York:20260525T150000
CLASS:PRIVATE
CREATED:20260424T125822
DESCRIPTION:
LAST-MODIFIED:20260424T125929
LOCATION:Parade Start - Richards Ave
SUMMARY:Village event: Portsmouth Memorial Day Parade - Volunteers needed!
URL;VALUE=URI:https://seacoast.helpfulvillage.com/events/1230
END:VEVENT
END:VCALENDAR
